BEGIN:VCALENDAR
VERSION:2.0
PRODID:-//Radio Revolten - ECPv4.6.19//NONSGML v1.0//EN
CALSCALE:GREGORIAN
METHOD:PUBLISH
X-WR-CALNAME:Radio Revolten
X-ORIGINAL-URL:https://radiorevolten.net/en
X-WR-CALDESC:Veranstaltungen für Radio Revolten
BEGIN:VEVENT
DTSTART;TZID=Europe/Berlin:20161014T000000
DTEND;TZID=Europe/Berlin:20161014T100000
DTSTAMP:20260420T081736
CREATED:20161013T221417Z
LAST-MODIFIED:20161013T221417Z
UID:3747-1476403200-1476439200@radiorevolten.net
SUMMARY:Better Silence - Radius Night
DESCRIPTION:Radius Night p. I  \nRadius\, an experimental radio broadcast platform based in Chicago\, IL\, USA\, presents a special re-broadcast program. \n
URL:https://radiorevolten.net/en/event/better-silence-radius-night/
LOCATION:FM 99.3 MHz\, MW 1575 kHz
GEO:51.4827743;11.9716565
X-APPLE-STRUCTURED-LOCATION;VALUE=URI;X-ADDRESS=FM 99.3 MHz MW 1575 kHz;X-APPLE-RADIUS=500;X-TITLE=FM 99.3 MHz:geo:11.9716565,51.4827743
CATEGORIES:Radio
END:VEVENT
END:VCALENDAR