BEGIN:VCALENDAR
VERSION:2.0
PRODID:-//Radio Revolten - ECPv4.6.19//NONSGML v1.0//EN
CALSCALE:GREGORIAN
METHOD:PUBLISH
X-WR-CALNAME:Radio Revolten
X-ORIGINAL-URL:https://radiorevolten.net/en
X-WR-CALDESC:Veranstaltungen für Radio Revolten
BEGIN:VEVENT
DTSTART;TZID=Europe/Berlin:20161025T223000
DTEND;TZID=Europe/Berlin:20161026T000000
DTSTAMP:20260425T145017
CREATED:20160918T213120Z
LAST-MODIFIED:20161101T143343Z
UID:2022-1477434600-1477440000@radiorevolten.net
SUMMARY:Hauser in the Cities
DESCRIPTION:Ralf Wendt (Halle) and Marold Langer-Philippsen (Berlin) \n
URL:https://radiorevolten.net/en/event/hauser-in-the-woods-2/
LOCATION:FM 99.3 MHz\, MW 1575 kHz
GEO:51.4827743;11.9716565
X-APPLE-STRUCTURED-LOCATION;VALUE=URI;X-ADDRESS=FM 99.3 MHz MW 1575 kHz;X-APPLE-RADIUS=500;X-TITLE=FM 99.3 MHz:geo:11.9716565,51.4827743
CATEGORIES:Radio
ATTACH;FMTTYPE=image/jpeg:https://radiorevolten.net/wp-content/uploads/2016/10/DTO8156-web.jpg
END:VEVENT
END:VCALENDAR