BEGIN:VCALENDAR
VERSION:2.0
PRODID:-//Radio Revolten - ECPv4.6.19//NONSGML v1.0//EN
CALSCALE:GREGORIAN
METHOD:PUBLISH
X-WR-CALNAME:Radio Revolten
X-ORIGINAL-URL:https://radiorevolten.net/en
X-WR-CALDESC:Veranstaltungen für Radio Revolten
BEGIN:VEVENT
DTSTART;TZID=Europe/Berlin:20161027T130000
DTEND;TZID=Europe/Berlin:20161027T140000
DTSTAMP:20260420T043836
CREATED:20160830T211434Z
LAST-MODIFIED:20161012T082112Z
UID:1561-1477573200-1477576800@radiorevolten.net
SUMMARY:Kein Kommerz auf Megahertz?
DESCRIPTION:Talk with Jan Pinseler \nAlso on Radio Corax 95\,9 FM \n
URL:https://radiorevolten.net/en/event/kein-kommerz-auf-megaherz/
LOCATION:Große Märkerstraße 10\, Halle\, 06108\, Deutschland
GEO:51.480643;11.97153
X-APPLE-STRUCTURED-LOCATION;VALUE=URI;X-ADDRESS=Große Märkerstraße 10 Halle 06108 Deutschland;X-APPLE-RADIUS=500;X-TITLE=Große Märkerstraße 10:geo:11.97153,51.480643
CATEGORIES:Events
END:VEVENT
END:VCALENDAR