BEGIN:VCALENDAR
VERSION:2.0
PRODID:-//Radio Revolten - ECPv4.6.19//NONSGML v1.0//EN
CALSCALE:GREGORIAN
METHOD:PUBLISH
X-WR-CALNAME:Radio Revolten
X-ORIGINAL-URL:https://radiorevolten.net/en
X-WR-CALDESC:Veranstaltungen für Radio Revolten
BEGIN:VEVENT
DTSTART;TZID=Europe/Berlin:20161024T120000
DTEND;TZID=Europe/Berlin:20161024T170000
DTSTAMP:20260420T044001
CREATED:20160918T212632Z
LAST-MODIFIED:20170522T182759Z
UID:2019-1477310400-1477328400@radiorevolten.net
SUMMARY:Radiophrenia - Radio art from Glasgow
DESCRIPTION:Radiophrenia presents radio art from Glasgow with Mark Vernon. \n
URL:https://radiorevolten.net/en/event/radiophrenia-radio-art-from-glasgow/
LOCATION:FM 99.3 MHz\, MW 1575 kHz
GEO:51.4827743;11.9716565
X-APPLE-STRUCTURED-LOCATION;VALUE=URI;X-ADDRESS=FM 99.3 MHz MW 1575 kHz;X-APPLE-RADIUS=500;X-TITLE=FM 99.3 MHz:geo:11.9716565,51.4827743
CATEGORIES:Radio
END:VEVENT
END:VCALENDAR