BEGIN:VCALENDAR
VERSION:2.0
PRODID:-//Radio Revolten - ECPv4.6.19//NONSGML v1.0//EN
CALSCALE:GREGORIAN
METHOD:PUBLISH
X-WR-CALNAME:Radio Revolten
X-ORIGINAL-URL:https://radiorevolten.net/en
X-WR-CALDESC:Veranstaltungen für Radio Revolten
BEGIN:VEVENT
DTSTART;TZID=Europe/Berlin:20161013T100000
DTEND;TZID=Europe/Berlin:20161013T170000
DTSTAMP:20260423T032506
CREATED:20161013T102334Z
LAST-MODIFIED:20161013T102536Z
UID:3665-1476352800-1476378000@radiorevolten.net
SUMMARY:RADIORADAR - hitchhiking Radio
DESCRIPTION:On air hitchhiking from Bratisvala to Halle – traveller is Jürgen Rendl: \nJürgen Rendl is an Austrian-born (b. 1981) and Bratislava-based radio editor and\nresearcher\, dedicated to peripheries and marginalised knowledge. Guided by\ncuriosity\, he is constantly wandering\, absorbing\, and occasionally intervening at\nthe fringes of urban life. In 2011 he initiated the artistic research project\nStadlnova’ based on the idea of a fictive suburb between Vienna and Bratislava\n(https://www.stadlnova.net). You can follow the records of his\nramblings via https://suburbandrifter.tumblr.com. \n
URL:https://radiorevolten.net/en/event/radioradar-hitchhiking-radio/
CATEGORIES:Radio
END:VEVENT
END:VCALENDAR