BEGIN:VCALENDAR
VERSION:2.0
PRODID:-//Radio Revolten - ECPv4.6.19//NONSGML v1.0//EN
CALSCALE:GREGORIAN
METHOD:PUBLISH
X-WR-CALNAME:Radio Revolten
X-ORIGINAL-URL:https://radiorevolten.net/en
X-WR-CALDESC:Veranstaltungen für Radio Revolten
BEGIN:VEVENT
DTSTART;TZID=Europe/Berlin:20161007T113000
DTEND;TZID=Europe/Berlin:20161007T130000
DTSTAMP:20260420T044006
CREATED:20161005T181516Z
LAST-MODIFIED:20161005T182243Z
UID:2671-1475839800-1475845200@radiorevolten.net
SUMMARY:RADIORADAR meet the ÉCOLEFLÂNEURS
DESCRIPTION:Meeting point 11.30 in front of Radio Revolten Klub \n
URL:https://radiorevolten.net/en/event/radioradar-meet-the-ecoleflaneurs/
LOCATION:Rathausstraße 3\, Halle (Saale)\, 06108\, Deutschland
GEO:51.4827656;11.9715809
X-APPLE-STRUCTURED-LOCATION;VALUE=URI;X-ADDRESS=Rathausstraße 3 Halle (Saale) 06108 Deutschland;X-APPLE-RADIUS=500;X-TITLE=Rathausstraße 3:geo:11.9715809,51.4827656
CATEGORIES:Events
ATTACH;FMTTYPE=image/jpeg:https://radiorevolten.net/wp-content/uploads/2016/10/ÉCOLEFLÂNEURS_Foto_AurelArnoldt.jpg
END:VEVENT
END:VCALENDAR