BEGIN:VCALENDAR
VERSION:2.0
PRODID:-//Radio Revolten - ECPv4.6.19//NONSGML v1.0//EN
CALSCALE:GREGORIAN
METHOD:PUBLISH
X-WR-CALNAME:Radio Revolten
X-ORIGINAL-URL:https://radiorevolten.net/en
X-WR-CALDESC:Veranstaltungen für Radio Revolten
BEGIN:VEVENT
DTSTART;TZID=Europe/Berlin:20161015T200000
DTEND;TZID=Europe/Berlin:20161015T223000
DTSTAMP:20260423T032458
CREATED:20160704T112355Z
LAST-MODIFIED:20161016T222445Z
UID:1107-1476561600-1476570600@radiorevolten.net
SUMMARY:Instant Radio Play with Willem de Ridder / Mary Stark
DESCRIPTION:Willem de Ridder is a painter\, story teller\, radio and TV producer\, publisher\, inventor\, musician\, actor\, talkshow host\, sound and costume designer and much more. He was the chairman of FLUXUS for the Northern Europe\, worked together with Misja Mengelberg\, Dick Raaymakers\, Louis Andriessens\, Nam June Paik\, George Maciunas\, Wim T. Schippers\, Andrew Mc Kenzie and many more. \n
URL:https://radiorevolten.net/en/event/willem-de-ridder-mary-stark/
LOCATION:Rathausstraße 3\, Halle (Saale)\, 06108\, Deutschland
GEO:51.4827656;11.9715809
X-APPLE-STRUCTURED-LOCATION;VALUE=URI;X-ADDRESS=Rathausstraße 3 Halle (Saale) 06108 Deutschland;X-APPLE-RADIUS=500;X-TITLE=Rathausstraße 3:geo:11.9715809,51.4827656
CATEGORIES:Events,Radio
ATTACH;FMTTYPE=image/jpeg:https://radiorevolten.net/wp-content/uploads/2016/10/P1070379.jpg
END:VEVENT
END:VCALENDAR