BEGIN:VCALENDAR
VERSION:2.0
PRODID:-//Radio Revolten - ECPv4.6.19//NONSGML v1.0//EN
CALSCALE:GREGORIAN
METHOD:PUBLISH
X-WR-CALNAME:Radio Revolten
X-ORIGINAL-URL:https://radiorevolten.net/en
X-WR-CALDESC:Veranstaltungen für Radio Revolten
BEGIN:VEVENT
DTSTART;TZID=Europe/Berlin:20161012T200000
DTEND;TZID=Europe/Berlin:20161012T220000
DTSTAMP:20260423T013927
CREATED:20160704T111037Z
LAST-MODIFIED:20161010T164000Z
UID:1104-1476302400-1476309600@radiorevolten.net
SUMMARY:Xentos 'Fray' Bentos
DESCRIPTION:Jim Whelton (aka Xentos Fray Bentos) is a video and radio artist\, writer\, performer and sound designer and based in London. Over the last 17 years he has produced video and radiophonic works and written original scripts for radio stations around the world. He has made sound and musical pieces for interactive displays in the Tate Modern\, Science Museum and the National Museum of Scotland among others. He performs live experimental music\, produces experimental video and degrades old easy listening recordings when time permits. His prodigious multi-persona pop and plunderphonic musical output is the stuff of legend. \n
URL:https://radiorevolten.net/en/event/xentos-fray-bentos/
LOCATION:Rathausstraße 3\, Halle (Saale)\, 06108\, Deutschland
GEO:51.4827656;11.9715809
X-APPLE-STRUCTURED-LOCATION;VALUE=URI;X-ADDRESS=Rathausstraße 3 Halle (Saale) 06108 Deutschland;X-APPLE-RADIUS=500;X-TITLE=Rathausstraße 3:geo:11.9715809,51.4827656
CATEGORIES:Events,Radio
ATTACH;FMTTYPE=image/jpeg:https://radiorevolten.net/wp-content/uploads/2016/07/fray-bentos-lazy-sunday-007.jpg
END:VEVENT
END:VCALENDAR