BEGIN:VCALENDAR
VERSION:2.0
PRODID:-//Radio Revolten - ECPv4.6.19//NONSGML v1.0//EN
CALSCALE:GREGORIAN
METHOD:PUBLISH
X-WR-CALNAME:Radio Revolten
X-ORIGINAL-URL:https://radiorevolten.net
X-WR-CALDESC:Veranstaltungen für Radio Revolten
BEGIN:VEVENT
DTSTART;TZID=Europe/Berlin:20161010T000000
DTEND;TZID=Europe/Berlin:20161010T100000
DTSTAMP:20260420T010142
CREATED:20161012T150147Z
LAST-MODIFIED:20161012T150147Z
UID:3374-1476057600-1476093600@radiorevolten.net
SUMMARY:Better silence
DESCRIPTION:Gibt es etwas Besseres als die Stille in der Nacht? \n00.00 Silence Radio \n
URL:https://radiorevolten.net/event/better-silence-9/
CATEGORIES:Radio
END:VEVENT
END:VCALENDAR