BEGIN:VCALENDAR
VERSION:2.0
PRODID:-//Radio Revolten - ECPv4.6.19//NONSGML v1.0//EN
CALSCALE:GREGORIAN
METHOD:PUBLISH
X-WR-CALNAME:Radio Revolten
X-ORIGINAL-URL:https://radiorevolten.net
X-WR-CALDESC:Veranstaltungen für Radio Revolten
BEGIN:VEVENT
DTSTART;TZID=Europe/Berlin:20161010T100000
DTEND;TZID=Europe/Berlin:20161010T170000
DTSTAMP:20260420T024555
CREATED:20161012T144421Z
LAST-MODIFIED:20161012T144651Z
UID:3368-1476093600-1476118800@radiorevolten.net
SUMMARY:Die tägliche Revolte
DESCRIPTION:Überraschungen\, Katastrophen\, Radiokunst. \n10.00 Antoine Bertin – 12 hours in the life of a fox \n
URL:https://radiorevolten.net/event/die-taegliche-revolte-14/
CATEGORIES:Radio
END:VEVENT
END:VCALENDAR