BEGIN:VCALENDAR
VERSION:2.0
PRODID:-//Radio Revolten - ECPv4.6.19//NONSGML v1.0//EN
CALSCALE:GREGORIAN
METHOD:PUBLISH
X-WR-CALNAME:Radio Revolten
X-ORIGINAL-URL:https://radiorevolten.net/en
X-WR-CALDESC:Veranstaltungen für Radio Revolten
BEGIN:VEVENT
DTSTART;TZID=Europe/Berlin:20161024T100000
DTEND;TZID=Europe/Berlin:20161024T120000
DTSTAMP:20260420T024558
CREATED:20161025T133045Z
LAST-MODIFIED:20161025T133045Z
UID:6086-1477303200-1477310400@radiorevolten.net
SUMMARY:The Daily Revolt
DESCRIPTION:Surprises\, catastrophes\, radio art. \n10.00 Field recordings from the cattle grids of Dartmoor \n
URL:https://radiorevolten.net/en/event/the-daily-revolt-34/
LOCATION:FM 99.3 MHz\, MW 1575 kHz
GEO:51.4827743;11.9716565
X-APPLE-STRUCTURED-LOCATION;VALUE=URI;X-ADDRESS=FM 99.3 MHz MW 1575 kHz;X-APPLE-RADIUS=500;X-TITLE=FM 99.3 MHz:geo:11.9716565,51.4827743
CATEGORIES:Radio
END:VEVENT
END:VCALENDAR