BEGIN:VCALENDAR
VERSION:2.0
PRODID:-//Radio Revolten - ECPv4.6.19//NONSGML v1.0//EN
CALSCALE:GREGORIAN
METHOD:PUBLISH
X-WR-CALNAME:Radio Revolten
X-ORIGINAL-URL:https://radiorevolten.net
X-WR-CALDESC:Veranstaltungen für Radio Revolten
BEGIN:VEVENT
DTSTART;TZID=Europe/Berlin:20161007T100000
DTEND;TZID=Europe/Berlin:20161007T151000
DTSTAMP:20260420T024557
CREATED:20161006T100640Z
LAST-MODIFIED:20161007T113953Z
UID:2700-1475834400-1475853000@radiorevolten.net
SUMMARY:Die Tägliche Revolte
DESCRIPTION:Überraschungen\, Katastrophen\, Radiokunst. \n10.15 Antenas Intervenciones – Oido Salvaje\n11.00 Madagascar Rainforest (2012)\n11.30 On Air Flanieren: RADIORADAR and ÉCOLEFLÂNEURS (Elke Schmid & Thomas Schütt) verlieren in sich im Weichbild der Stadt Halle – Jan Langhammer geht mit (Live)\n12.30 Performance Ilia Rogatchevski & Laura Michelle Smith in the Radio Revolten Klub (06-10-2016)\n13.00 Performance Steve Bates in the Radio Revolten Klub (06-10-2016)\n13.40 Diary #1 + Diary #2 – John Cage \n
URL:https://radiorevolten.net/event/die-taegliche-revolte-6/
LOCATION:FM 99.3 MHz\, MW 1575 kHz
GEO:51.4827743;11.9716565
X-APPLE-STRUCTURED-LOCATION;VALUE=URI;X-ADDRESS=FM 99.3 MHz MW 1575 kHz;X-APPLE-RADIUS=500;X-TITLE=FM 99.3 MHz:geo:11.9716565,51.4827743
CATEGORIES:Radio
END:VEVENT
END:VCALENDAR