BEGIN:VCALENDAR
VERSION:2.0
PRODID:-//Radio Revolten - ECPv4.6.19//NONSGML v1.0//EN
CALSCALE:GREGORIAN
METHOD:PUBLISH
X-WR-CALNAME:Radio Revolten
X-ORIGINAL-URL:https://radiorevolten.net
X-WR-CALDESC:Veranstaltungen für Radio Revolten
BEGIN:VEVENT
DTSTART;TZID=Europe/Berlin:20161007T140000
DTEND;TZID=Europe/Berlin:20161007T150000
DTSTAMP:20260420T010306
CREATED:20160930T133025Z
LAST-MODIFIED:20160930T133025Z
UID:2419-1475848800-1475852400@radiorevolten.net
SUMMARY:RADIORADAR - Tour
DESCRIPTION:\nMarold Langer-Philippsen öffnet täglich um 14.00 Uhr die Türen zu seinem Studio in den Hausmannstürmen\, wo sich das Orakelradio jeden Tag on air sich und neuen Fragen stellt. \nBesucher und Ratsuchende werden gebeten\, als Opfergabe einen klingenden Gegenstand mitzubringen. \n\n
URL:https://radiorevolten.net/event/radioradar-tour-5/
LOCATION:Marktplatz\, Halle (Saale)\, Deutschland
GEO:51.4826212;11.9699481
X-APPLE-STRUCTURED-LOCATION;VALUE=URI;X-ADDRESS=Marktplatz Halle (Saale) Deutschland;X-APPLE-RADIUS=500;X-TITLE=Marktplatz:geo:11.9699481,51.4826212
CATEGORIES:Events
END:VEVENT
END:VCALENDAR