BEGIN:VCALENDAR
VERSION:2.0
PRODID:-//Radio Revolten - ECPv4.6.19//NONSGML v1.0//EN
CALSCALE:GREGORIAN
METHOD:PUBLISH
X-WR-CALNAME:Radio Revolten
X-ORIGINAL-URL:https://radiorevolten.net
X-WR-CALDESC:Veranstaltungen für Radio Revolten
BEGIN:VEVENT
DTSTART;TZID=Europe/Berlin:20161002T220000
DTEND;TZID=Europe/Berlin:20161003T060000
DTSTAMP:20260420T045040
CREATED:20160522T190026Z
LAST-MODIFIED:20161002T185617Z
UID:54-1475445600-1475474400@radiorevolten.net
SUMMARY:ShortWaveMusic: All Night Flight
DESCRIPTION:Als weltweit empfangbares Radiosignal bietet die Kurzwelle (Short Wave) einen tatsächlich grenzenlosen akustischen Zugang zur globalen Welt. Das Eintrittstor ist ein entsprechender Radioempfänger. Myke Dodge Weiskopf baut aus Tönen\, Stimmen\, Geräuschen und Musik\, die er über Kurzwelle empfangen und archiviert hat\, akustische Weltreisen. Aus den ineinandergeschnitten\, sich überlagernden und aneinandergefügten Samples können die Hörenden durch Räume (und Zeiten) gehen\, ohne sich bewegen zu müssen. Diese einzigarten Klangperformances dauern von Sonnenunter- bis Sonnenaufgang insgesamt elf Stunden. Kissen und Decken sind vorhanden\, denn das Abdriften in Traumlandschaften ist durchaus beabsichtigt. \nDie Performance kann während der Nacht jederzeit besucht und verlassen werden. \n \n
URL:https://radiorevolten.net/event/shortwavemusic-all-night-flight/
LOCATION:Rathausstraße 3\, Halle (Saale)\, 06108\, Deutschland
GEO:51.4827656;11.9715809
X-APPLE-STRUCTURED-LOCATION;VALUE=URI;X-ADDRESS=Rathausstraße 3 Halle (Saale) 06108 Deutschland;X-APPLE-RADIUS=500;X-TITLE=Rathausstraße 3:geo:11.9715809,51.4827656
CATEGORIES:Events,Radio
ATTACH;FMTTYPE=image/jpeg:https://radiorevolten.net/wp-content/uploads/2016/05/Myke-Dodge-Weiskopf-All-Night-Flight.jpg
END:VEVENT
END:VCALENDAR