BEGIN:VCALENDAR
VERSION:2.0
PRODID:-//Radio Revolten - ECPv4.6.19//NONSGML v1.0//EN
CALSCALE:GREGORIAN
METHOD:PUBLISH
X-WR-CALNAME:Radio Revolten
X-ORIGINAL-URL:https://radiorevolten.net
X-WR-CALDESC:Veranstaltungen für Radio Revolten
BEGIN:VEVENT
DTSTART;TZID=Europe/Berlin:20161027T180000
DTEND;TZID=Europe/Berlin:20161027T200000
DTSTAMP:20260426T005247
CREATED:20161014T084341Z
LAST-MODIFIED:20161024T143425Z
UID:3772-1477591200-1477598400@radiorevolten.net
SUMMARY:Solo: Ivor Kallin
DESCRIPTION:Ein Mensch (oder Künstlergruppe) alleine im Studio mit zwei Stunden Zeit. Heute: Ivor Kallin \n
URL:https://radiorevolten.net/event/solo-ivor-kallin-2/
LOCATION:FM 99.3 MHz\, MW 1575 kHz
GEO:51.4827743;11.9716565
X-APPLE-STRUCTURED-LOCATION;VALUE=URI;X-ADDRESS=FM 99.3 MHz MW 1575 kHz;X-APPLE-RADIUS=500;X-TITLE=FM 99.3 MHz:geo:11.9716565,51.4827743
CATEGORIES:Radio
ATTACH;FMTTYPE=image/jpeg:https://radiorevolten.net/wp-content/uploads/2016/10/Foto_KallinIvor_by_Werner_Krepper.jpg
END:VEVENT
END:VCALENDAR