BEGIN:VCALENDAR
VERSION:2.0
PRODID:-//Radio Revolten - ECPv4.6.19//NONSGML v1.0//EN
CALSCALE:GREGORIAN
METHOD:PUBLISH
X-WR-CALNAME:Radio Revolten
X-ORIGINAL-URL:https://radiorevolten.net
X-WR-CALDESC:Veranstaltungen für Radio Revolten
BEGIN:VEVENT
DTSTART;TZID=Europe/Berlin:20161005T000000
DTEND;TZID=Europe/Berlin:20161005T100000
DTSTAMP:20260420T010215
CREATED:20161004T103453Z
LAST-MODIFIED:20161004T105200Z
UID:2619-1475625600-1475661600@radiorevolten.net
SUMMARY:Better Silence
DESCRIPTION:Gibt es etwas Besseres als die Stille in der Nacht? \nHeute: Radio Aporee \n
URL:https://radiorevolten.net/event/better-silence-2-2/
LOCATION:FM 99.3 MHz\, MW 1575 kHz
GEO:51.4827743;11.9716565
X-APPLE-STRUCTURED-LOCATION;VALUE=URI;X-ADDRESS=FM 99.3 MHz MW 1575 kHz;X-APPLE-RADIUS=500;X-TITLE=FM 99.3 MHz:geo:11.9716565,51.4827743
CATEGORIES:Radio
END:VEVENT
BEGIN:VEVENT
DTSTART;TZID=Europe/Berlin:20161005T100000
DTEND;TZID=Europe/Berlin:20161005T120000
DTSTAMP:20260420T010215
CREATED:20161005T101703Z
LAST-MODIFIED:20161005T101859Z
UID:2643-1475661600-1475668800@radiorevolten.net
SUMMARY:Die Tägliche Revolte
DESCRIPTION:Überraschungen\, Katastrophen\, Radiokunst. \n10.00 Hearwhere: Dubai to Karachi (2) – Bradley & Weaver\n10.30 Dimension X\n10.58 Jan Langhammer im Gespräch mit Sophea Lerner\n11.14 Möbius Strip (13)\n11.44 wake\, pratte and toll & Ode to dead ice creams – DinahBird \n
URL:https://radiorevolten.net/event/die-taegliche-revolte-3/
LOCATION:FM 99.3 MHz\, MW 1575 kHz
GEO:51.4827743;11.9716565
X-APPLE-STRUCTURED-LOCATION;VALUE=URI;X-ADDRESS=FM 99.3 MHz MW 1575 kHz;X-APPLE-RADIUS=500;X-TITLE=FM 99.3 MHz:geo:11.9716565,51.4827743
CATEGORIES:Radio
END:VEVENT
BEGIN:VEVENT
DTSTART;TZID=Europe/Berlin:20161005T120000
DTEND;TZID=Europe/Berlin:20161005T140000
DTSTAMP:20260420T010215
CREATED:20160926T171935Z
LAST-MODIFIED:20161005T102421Z
UID:2235-1475668800-1475676000@radiorevolten.net
SUMMARY:Jeff Kolar über Radius
DESCRIPTION:Jeff Kolar\, der Gründer der experimentellen Radio-Plattform Radius\, präsentiert ausgewählte Arbeiten aus den 75 Künstlerproduktionen\, die er bisher gesendet und veröffentlicht hat. \nSpecial guest: Sally Ann McIntyre \n
URL:https://radiorevolten.net/event/jeff-kolar-ueber-radius/
LOCATION:FM 99.3 MHz\, MW 1575 kHz
GEO:51.4827743;11.9716565
X-APPLE-STRUCTURED-LOCATION;VALUE=URI;X-ADDRESS=FM 99.3 MHz MW 1575 kHz;X-APPLE-RADIUS=500;X-TITLE=FM 99.3 MHz:geo:11.9716565,51.4827743
CATEGORIES:Radio
END:VEVENT
BEGIN:VEVENT
DTSTART;TZID=Europe/Berlin:20161005T130000
DTEND;TZID=Europe/Berlin:20161005T140000
DTSTAMP:20260420T010215
CREATED:20160830T203303Z
LAST-MODIFIED:20161004T230640Z
UID:1551-1475672400-1475676000@radiorevolten.net
SUMMARY:Ich wollt einmal am Sender steh'n
DESCRIPTION:Talk mit Gerd Roscher\, bis 2008 Professor an der Hochschule für bildende Künste Hamburg\, produzierte Filme zur Arbeiterradiobewegung und dem Widerstand gegen den NS-Rundfunk. In den 1980er Jahren war er Zeuge der polizeilichen Räumung eines Freiburger Piratensenders. \nZeitgleich auch auf Radio Corax 95\,9 UKW \n
URL:https://radiorevolten.net/event/ich-wollt-einmal-am-sender-stehn/
LOCATION:Große Märkerstraße 10\, Halle\, 06108\, Deutschland
GEO:51.480643;11.97153
X-APPLE-STRUCTURED-LOCATION;VALUE=URI;X-ADDRESS=Große Märkerstraße 10 Halle 06108 Deutschland;X-APPLE-RADIUS=500;X-TITLE=Große Märkerstraße 10:geo:11.97153,51.480643
CATEGORIES:Events
END:VEVENT
BEGIN:VEVENT
DTSTART;TZID=Europe/Berlin:20161005T140000
DTEND;TZID=Europe/Berlin:20161005T150000
DTSTAMP:20260420T010215
CREATED:20160927T161824Z
LAST-MODIFIED:20160927T161824Z
UID:2282-1475676000-1475679600@radiorevolten.net
SUMMARY:RADIORADAR - Tour
DESCRIPTION:Marold Langer-Philippsen öffnet täglich um 14.00 Uhr die Türen zu seinem Studio in den Hausmannstürmen\, wo sich das Orakelradio jeden Tag on air sich und neuen Fragen stellt. \nBesucher und Ratsuchende werden gebeten\, als Opfergabe einen klingenden Gegenstand mitzubringen. \n
URL:https://radiorevolten.net/event/radioradar-tour-3/
LOCATION:Marktplatz\, Halle (Saale)\, Deutschland
GEO:51.4826212;11.9699481
X-APPLE-STRUCTURED-LOCATION;VALUE=URI;X-ADDRESS=Marktplatz Halle (Saale) Deutschland;X-APPLE-RADIUS=500;X-TITLE=Marktplatz:geo:11.9699481,51.4826212
CATEGORIES:Events
END:VEVENT
BEGIN:VEVENT
DTSTART;TZID=Europe/Berlin:20161005T140000
DTEND;TZID=Europe/Berlin:20161005T170000
DTSTAMP:20260420T010215
CREATED:20161005T102306Z
LAST-MODIFIED:20161005T121336Z
UID:2653-1475676000-1475686800@radiorevolten.net
SUMMARY:Die Tägliche Revolte
DESCRIPTION:Überraschungen\, Katastrophen\, Radiokunst. \n14.00 Lydmuren – japanese hifi\n14.45 Lydmuren – KOMPAS\n15.45 Lydmuren – flott tv \n
URL:https://radiorevolten.net/event/die-taegliche-revolte-4/
LOCATION:FM 99.3 MHz\, MW 1575 kHz
GEO:51.4827743;11.9716565
X-APPLE-STRUCTURED-LOCATION;VALUE=URI;X-ADDRESS=FM 99.3 MHz MW 1575 kHz;X-APPLE-RADIUS=500;X-TITLE=FM 99.3 MHz:geo:11.9716565,51.4827743
CATEGORIES:Radio
END:VEVENT
BEGIN:VEVENT
DTSTART;TZID=Europe/Berlin:20161005T170000
DTEND;TZID=Europe/Berlin:20161005T180000
DTSTAMP:20260420T010215
CREATED:20160921T142509Z
LAST-MODIFIED:20160921T142509Z
UID:2080-1475686800-1475690400@radiorevolten.net
SUMMARY:RADIORADAR
DESCRIPTION:Marold Langer-Philippsen sendet sein Orakelradio live aus der Türmerwohnung der Marktkirche. Jeden Tag von 17- 18 Uhr auf UKW 99\,3 und davor und danach auf www.radioradar.eu \nEinem Orakel werden Fragen gestellt\, Geschenke mitgebracht\, um es günstig zu stimmen\, dass seine Augen und Ohren klar sind\, um die Zeichen gut und genau deuten zu können\, die über das zukünftige berichten könnten. \n
URL:https://radiorevolten.net/event/radioradar-2-4/
LOCATION:Marktplatz\, Halle (Saale)\, Deutschland
GEO:51.4826212;11.9699481
X-APPLE-STRUCTURED-LOCATION;VALUE=URI;X-ADDRESS=Marktplatz Halle (Saale) Deutschland;X-APPLE-RADIUS=500;X-TITLE=Marktplatz:geo:11.9699481,51.4826212
CATEGORIES:Radio
ATTACH;FMTTYPE=image/jpeg:https://radiorevolten.net/wp-content/uploads/2016/09/Marold-am-senden_Marold-Langer-Philippsen.jpeg
END:VEVENT
BEGIN:VEVENT
DTSTART;TZID=Europe/Berlin:20161005T180000
DTEND;TZID=Europe/Berlin:20161005T200000
DTSTAMP:20260420T010215
CREATED:20161005T161137Z
LAST-MODIFIED:20161006T070757Z
UID:2668-1475690400-1475697600@radiorevolten.net
SUMMARY:Solo: Myke Dodge Weiskopf
DESCRIPTION:Ein Mensch (oder Künstlergruppe) alleine im Studio mit zwei Stunden Zeit. Heute: Myke Dodge Weiskopf \nMyke spielt ausschließlich Aufnahmen\, die er von Kurzwellenradiostationen gemacht hat. \n
URL:https://radiorevolten.net/event/solo-myke-dodge-weiskopf/
LOCATION:FM 99.3 MHz\, MW 1575 kHz
GEO:51.4827743;11.9716565
X-APPLE-STRUCTURED-LOCATION;VALUE=URI;X-ADDRESS=FM 99.3 MHz MW 1575 kHz;X-APPLE-RADIUS=500;X-TITLE=FM 99.3 MHz:geo:11.9716565,51.4827743
CATEGORIES:Radio
END:VEVENT
BEGIN:VEVENT
DTSTART;TZID=Europe/Berlin:20161005T200000
DTEND;TZID=Europe/Berlin:20161005T210000
DTSTAMP:20260420T010215
CREATED:20160704T104408Z
LAST-MODIFIED:20161006T065015Z
UID:1102-1475697600-1475701200@radiorevolten.net
SUMMARY:Fernando Godoy M & Rodrigo Ríos Zunino
DESCRIPTION:
URL:https://radiorevolten.net/event/fernando-godoy-m-rodrigo-rios-zunino/
LOCATION:Rathausstraße 3\, Halle (Saale)\, 06108\, Deutschland
GEO:51.4827656;11.9715809
X-APPLE-STRUCTURED-LOCATION;VALUE=URI;X-ADDRESS=Rathausstraße 3 Halle (Saale) 06108 Deutschland;X-APPLE-RADIUS=500;X-TITLE=Rathausstraße 3:geo:11.9715809,51.4827656
CATEGORIES:Events,Radio
ATTACH;FMTTYPE=image/jpeg:https://radiorevolten.net/wp-content/uploads/2016/07/set1.jpg
END:VEVENT
BEGIN:VEVENT
DTSTART;TZID=Europe/Berlin:20161005T210000
DTEND;TZID=Europe/Berlin:20161006T000000
DTSTAMP:20260420T010215
CREATED:20161005T205444Z
LAST-MODIFIED:20161006T065151Z
UID:2677-1475701200-1475712000@radiorevolten.net
SUMMARY:Die tägliche Revolte
DESCRIPTION:Überraschungen\, Katastrophen\, Radiokunst. \n21.00 horizontal radio – Samples aus über 100 Stunden Radio aus der ganzen Welt\n22.00 Nachtspaziergang durch die RR-Zentrale (live)\n22.30 horizontal radio – Samples aus über 100 Stunden Radio aus der ganzen Welt\n23.00 Music for programming – zusammengestellt von Datasette\n23.15 night oracle action \n
URL:https://radiorevolten.net/event/die-taegliche-revolte-5/
LOCATION:FM 99.3 MHz\, MW 1575 kHz
GEO:51.4827743;11.9716565
X-APPLE-STRUCTURED-LOCATION;VALUE=URI;X-ADDRESS=FM 99.3 MHz MW 1575 kHz;X-APPLE-RADIUS=500;X-TITLE=FM 99.3 MHz:geo:11.9716565,51.4827743
CATEGORIES:Radio
END:VEVENT
BEGIN:VEVENT
DTSTART;TZID=Europe/Berlin:20161006T000000
DTEND;TZID=Europe/Berlin:20161006T013000
DTSTAMP:20260420T010215
CREATED:20160918T201955Z
LAST-MODIFIED:20160918T201955Z
UID:1916-1475712000-1475717400@radiorevolten.net
SUMMARY:XRRB
DESCRIPTION:XRRB mit Anna Friz und Gäste \n
URL:https://radiorevolten.net/event/xrrb/
LOCATION:FM 99.3 MHz\, MW 1575 kHz
GEO:51.4827743;11.9716565
X-APPLE-STRUCTURED-LOCATION;VALUE=URI;X-ADDRESS=FM 99.3 MHz MW 1575 kHz;X-APPLE-RADIUS=500;X-TITLE=FM 99.3 MHz:geo:11.9716565,51.4827743
CATEGORIES:Radio
END:VEVENT
BEGIN:VEVENT
DTSTART;TZID=Europe/Berlin:20161006T013000
DTEND;TZID=Europe/Berlin:20161006T100000
DTSTAMP:20260420T010215
CREATED:20161006T065621Z
LAST-MODIFIED:20161006T070104Z
UID:2683-1475717400-1475748000@radiorevolten.net
SUMMARY:Better Silence
DESCRIPTION:Gibt es etwas Besseres als die Stille in der Nacht? \nHeute: Konzert-Mitschnitte in denen das Radio als Musikinstrument vorkommt. Zusammengestellt von Chris Weaver \n
URL:https://radiorevolten.net/event/better-silence-4/
LOCATION:FM 99.3 MHz\, MW 1575 kHz
GEO:51.4827743;11.9716565
X-APPLE-STRUCTURED-LOCATION;VALUE=URI;X-ADDRESS=FM 99.3 MHz MW 1575 kHz;X-APPLE-RADIUS=500;X-TITLE=FM 99.3 MHz:geo:11.9716565,51.4827743
CATEGORIES:Radio
END:VEVENT
END:VCALENDAR