BEGIN:VCALENDAR
VERSION:2.0
PRODID:-//Radio Revolten - ECPv4.6.19//NONSGML v1.0//EN
CALSCALE:GREGORIAN
METHOD:PUBLISH
X-WR-CALNAME:Radio Revolten
X-ORIGINAL-URL:https://radiorevolten.net/en
X-WR-CALDESC:Veranstaltungen für Radio Revolten
BEGIN:VEVENT
DTSTART;TZID=Europe/Berlin:20161011T013000
DTEND;TZID=Europe/Berlin:20161011T100000
DTSTAMP:20260420T010234
CREATED:20161012T142852Z
LAST-MODIFIED:20161012T150626Z
UID:3365-1476149400-1476180000@radiorevolten.net
SUMMARY:Better Silence
DESCRIPTION:Is there something better than silence in the night? \n01.30 Steve Bates – Steve´s Spaceflight\n02.00 Sounds of Rosetta Space Probe\n02.30 Symphony of the Planets 1-5\n05.30 Radio Aporee \n
URL:https://radiorevolten.net/en/event/better-silence-8/
CATEGORIES:Radio
END:VEVENT
BEGIN:VEVENT
DTSTART;TZID=Europe/Berlin:20161011T100000
DTEND;TZID=Europe/Berlin:20161011T120000
DTSTAMP:20260420T010234
CREATED:20161010T172708Z
LAST-MODIFIED:20161202T120632Z
UID:3021-1476180000-1476187200@radiorevolten.net
SUMMARY:The Daily Revolt
DESCRIPTION:Surprises\, catastrophies\, radio art. \n10.45 Hafen Beddingen – Clemens von Reusner \n11.15 Sonstige Musik oder Kann man auf Vogelstimmenplatten tanzen? – Thomas Glatz\, Nikolai Vogel\, Martin Hans Schmitt \n
URL:https://radiorevolten.net/en/event/the-daily-revolt-10/
LOCATION:FM 99.3 MHz\, MW 1575 kHz
GEO:51.4827743;11.9716565
X-APPLE-STRUCTURED-LOCATION;VALUE=URI;X-ADDRESS=FM 99.3 MHz MW 1575 kHz;X-APPLE-RADIUS=500;X-TITLE=FM 99.3 MHz:geo:11.9716565,51.4827743
CATEGORIES:Radio
END:VEVENT
BEGIN:VEVENT
DTSTART;TZID=Europe/Berlin:20161011T120000
DTEND;TZID=Europe/Berlin:20161011T150000
DTSTAMP:20260420T010234
CREATED:20161011T102607Z
LAST-MODIFIED:20161011T103900Z
UID:3074-1476187200-1476198000@radiorevolten.net
SUMMARY:Henk Bakker & Lukas Simonis
DESCRIPTION:Henk Bakker & Lukas Simonis of ‘Klangendum’ from the Netherlands present some audio plays that they produced in the Worm Soundstudio in Rotterdam in collaboration with different sound artists from 2005 until present. \nMore information about Henk Bakker\nMore information about Lukas Simonis \nMore information about their audio plays at Klangendum: https://klangendum.nl/radio/horspil \n
URL:https://radiorevolten.net/en/event/henk-bakker-lukas-simonis/
LOCATION:FM 99.3 MHz\, MW 1575 kHz
GEO:51.4827743;11.9716565
X-APPLE-STRUCTURED-LOCATION;VALUE=URI;X-ADDRESS=FM 99.3 MHz MW 1575 kHz;X-APPLE-RADIUS=500;X-TITLE=FM 99.3 MHz:geo:11.9716565,51.4827743
CATEGORIES:Radio
END:VEVENT
BEGIN:VEVENT
DTSTART;TZID=Europe/Berlin:20161011T130000
DTEND;TZID=Europe/Berlin:20161011T140000
DTSTAMP:20260420T010234
CREATED:20160830T204512Z
LAST-MODIFIED:20160830T213105Z
UID:1553-1476190800-1476194400@radiorevolten.net
SUMMARY:»Rundfunkverbrecher« in Halle
DESCRIPTION:Talk with Michael Viebig \nAlso on Radio Corax 95\,9 FM \n
URL:https://radiorevolten.net/en/event/rundfunkverbrecher-in-halle/
LOCATION:Große Märkerstraße 10\, Halle\, 06108\, Deutschland
GEO:51.480643;11.97153
X-APPLE-STRUCTURED-LOCATION;VALUE=URI;X-ADDRESS=Große Märkerstraße 10 Halle 06108 Deutschland;X-APPLE-RADIUS=500;X-TITLE=Große Märkerstraße 10:geo:11.97153,51.480643
CATEGORIES:Events
END:VEVENT
BEGIN:VEVENT
DTSTART;TZID=Europe/Berlin:20161011T140000
DTEND;TZID=Europe/Berlin:20161011T150000
DTSTAMP:20260420T010234
CREATED:20161011T232604Z
LAST-MODIFIED:20161011T232604Z
UID:3322-1476194400-1476198000@radiorevolten.net
SUMMARY:RADIORADAR – Tour
DESCRIPTION:Marold Langer-Philippsen invites into his radio studio in the Hausmannstürme. \nRequested sacrificial offering: sounding objects of every shape. \n
URL:https://radiorevolten.net/en/event/radioradar-tour-9/
LOCATION:Marktplatz\, Halle (Saale)\, Deutschland
GEO:51.4826212;11.9699481
X-APPLE-STRUCTURED-LOCATION;VALUE=URI;X-ADDRESS=Marktplatz Halle (Saale) Deutschland;X-APPLE-RADIUS=500;X-TITLE=Marktplatz:geo:11.9699481,51.4826212
CATEGORIES:Events
END:VEVENT
BEGIN:VEVENT
DTSTART;TZID=Europe/Berlin:20161011T150000
DTEND;TZID=Europe/Berlin:20161011T170000
DTSTAMP:20260420T010234
CREATED:20161011T120523Z
LAST-MODIFIED:20161011T124916Z
UID:3088-1476198000-1476205200@radiorevolten.net
SUMMARY:The Daily Revolt
DESCRIPTION:Surprises\, catastrophies\, radio art. \n15.20 I AM FLY (Radio play by Xentos Fray Bentos)\n16.10 Meditation On A Broomstick (Radio play by Rudolf Ebner) \n
URL:https://radiorevolten.net/en/event/the-daily-revolt-11-2/
LOCATION:FM 99.3 MHz\, MW 1575 kHz
GEO:51.4827743;11.9716565
X-APPLE-STRUCTURED-LOCATION;VALUE=URI;X-ADDRESS=FM 99.3 MHz MW 1575 kHz;X-APPLE-RADIUS=500;X-TITLE=FM 99.3 MHz:geo:11.9716565,51.4827743
CATEGORIES:Radio
END:VEVENT
BEGIN:VEVENT
DTSTART;TZID=Europe/Berlin:20161011T170000
DTEND;TZID=Europe/Berlin:20161011T180000
DTSTAMP:20260420T010234
CREATED:20160921T142923Z
LAST-MODIFIED:20161006T233904Z
UID:2093-1476205200-1476208800@radiorevolten.net
SUMMARY:RADIORADAR
DESCRIPTION:Marold Langer-Philippsen broadcasts his oracle radio live from the former tower-warden’s flat of the Marktkirche. Every day from 5-6pm on 99.3 FM\, before and after on www.radioradar.eu \nTopic today is Fukushima. \nIn the olden times oracles lived in towers and people traveled many miles to visit them and seek their advice. \n
URL:https://radiorevolten.net/en/event/radioradar-2-10/
LOCATION:Marktplatz\, Halle (Saale)\, Deutschland
GEO:51.4826212;11.9699481
X-APPLE-STRUCTURED-LOCATION;VALUE=URI;X-ADDRESS=Marktplatz Halle (Saale) Deutschland;X-APPLE-RADIUS=500;X-TITLE=Marktplatz:geo:11.9699481,51.4826212
CATEGORIES:Radio
ATTACH;FMTTYPE=image/jpeg:https://radiorevolten.net/wp-content/uploads/2016/09/Marold-am-senden_Marold-Langer-Philippsen.jpeg
END:VEVENT
BEGIN:VEVENT
DTSTART;TZID=Europe/Berlin:20161011T180000
DTEND;TZID=Europe/Berlin:20161011T200000
DTSTAMP:20260420T010234
CREATED:20161012T103701Z
LAST-MODIFIED:20161202T121229Z
UID:3331-1476208800-1476216000@radiorevolten.net
SUMMARY:The Daily Revolt
DESCRIPTION:Surprises\, catastrophies\, radio art. \n18.00 Dimension-X(1951-06-17)(37)PebbleInTheSky\n18.25 Dimension-X(1951-06-24)(38)ChildsPlay\n18.50 nula – long shadows\n19.00 Walter Ruttman – Weekend\n19.35 Anathema for Organ and Electronics \n
URL:https://radiorevolten.net/en/event/the-daily-revolt-12/
CATEGORIES:Radio
END:VEVENT
BEGIN:VEVENT
DTSTART;TZID=Europe/Berlin:20161011T200000
DTEND;TZID=Europe/Berlin:20161011T220000
DTSTAMP:20260420T010234
CREATED:20160704T105601Z
LAST-MODIFIED:20161012T123748Z
UID:1103-1476216000-1476223200@radiorevolten.net
SUMMARY:EBU Tuesday: Tonic Train & the Radio Amateur
DESCRIPTION:The duo Tonic Train have been working for many years with radio technology as part of their live improvised electronic music set-up. They also incorporate circuit-bent devices and feedback systems. As co-curators of the Radio Revolten festival and frequent visitors to Halle\, they have invited local partners from the amateur radio operators group DL0MLU to form a collective improvised radio art performance incorporating various radio equipment – turning live radio into music and back again.\n \nMorse code transmission is also known as CW (‘continous wave’). Messages are formed by interupting a sine wave: an electromagnetic wave of constant amplitude and frequency is switiched on and off to produce the distinctive dot-dash signals. Not many people know this\, but ‘tonic train’ is an outdated term for ‘interupted continous wave’. \n  \n \n \n
URL:https://radiorevolten.net/en/event/ebu-tuesday-tonic-train-the-radio-amateurs/
LOCATION:Rathausstraße 3\, Halle (Saale)\, 06108\, Deutschland
GEO:51.4827656;11.9715809
X-APPLE-STRUCTURED-LOCATION;VALUE=URI;X-ADDRESS=Rathausstraße 3 Halle (Saale) 06108 Deutschland;X-APPLE-RADIUS=500;X-TITLE=Rathausstraße 3:geo:11.9715809,51.4827656
CATEGORIES:Events,Radio
ATTACH;FMTTYPE=image/jpeg:https://radiorevolten.net/wp-content/uploads/2016/07/P1070302.jpg
END:VEVENT
BEGIN:VEVENT
DTSTART;TZID=Europe/Berlin:20161011T220000
DTEND;TZID=Europe/Berlin:20161012T100000
DTSTAMP:20260420T010234
CREATED:20161012T105432Z
LAST-MODIFIED:20161012T141708Z
UID:3335-1476223200-1476266400@radiorevolten.net
SUMMARY:Better Silence
DESCRIPTION:Is there something better than silence in the night? \n22.00 Etienne Noiseau – Sounds familiar and daily\n23.00 Datscha Radio – Music for Saguaros #8 – from garden to garden\, a soundwalk\n00.00 Tonic Train – silvester_07-08\n00.15 SoundartRadio – white_bench_red_slate\n00.45 Tour de Radia\n01.15 Radia 271\n01.40 Radia_239_MobileRadio_Morsonata\n02.10 Radia no237\n02.40 Radia_107_Crosstalk_RR1\n03.05 Radia_84_DAIRO\n03.35 ORF – Resonance_120th_anniversary_feedback\n04.35 ORF – City_Of_Drizzle\n05.25 TetsuoKogawa – KnutAufermann – pnode_2Aug2014\n05.45 Morsonata_complete\n06.40 KlangLangWelle\n07.40 WillemDeRidder+SarahWashington_AB17Jan13_Bremen_room\n08.15 In_memoriam_44_1\n08.40 Duration_Unknown\n09.25 Alreves+TonicTrain9Dec2012\n09.40 Alreves+TonicTrain9Dec2012 \n
URL:https://radiorevolten.net/en/event/better-silence-7/
CATEGORIES:Radio
END:VEVENT
END:VCALENDAR