BEGIN:VCALENDAR
VERSION:2.0
PRODID:-//Radio Revolten - ECPv4.6.19//NONSGML v1.0//EN
CALSCALE:GREGORIAN
METHOD:PUBLISH
X-WR-CALNAME:Radio Revolten
X-ORIGINAL-URL:https://radiorevolten.net
X-WR-CALDESC:Veranstaltungen für Radio Revolten
BEGIN:VEVENT
DTSTART;TZID=Europe/Berlin:20161012T220000
DTEND;TZID=Europe/Berlin:20161013T100000
DTSTAMP:20260420T010214
CREATED:20161014T083421Z
LAST-MODIFIED:20161014T083421Z
UID:3769-1476309600-1476352800@radiorevolten.net
SUMMARY:Better Silence
DESCRIPTION:Gibt es etwas Besseres als Stille in der Nacht? \n22.00 Radio-Hörspiele von Klangdom\n00.00 Radius-Special pt. 1 \n
URL:https://radiorevolten.net/event/better-silence-10/
LOCATION:FM 99.3 MHz\, MW 1575 kHz
GEO:51.4827743;11.9716565
X-APPLE-STRUCTURED-LOCATION;VALUE=URI;X-ADDRESS=FM 99.3 MHz MW 1575 kHz;X-APPLE-RADIUS=500;X-TITLE=FM 99.3 MHz:geo:11.9716565,51.4827743
CATEGORIES:Radio
END:VEVENT
BEGIN:VEVENT
DTSTART;TZID=Europe/Berlin:20161013T100000
DTEND;TZID=Europe/Berlin:20161013T170000
DTSTAMP:20260420T010214
CREATED:20161013T102334Z
LAST-MODIFIED:20161013T102536Z
UID:3665-1476352800-1476378000@radiorevolten.net
SUMMARY:RADIORADAR - Tramp-Radio
DESCRIPTION:On air Trampen von Bratisvala nach Halle – Reisender ist Jürgen Rendl: \nJürgen Rendl ist ein in Österreich geborener (b. 1981) und in Bratislava lebender Radioredakteur und Frorscher\, der sich marginalisierten Wissensgebieten verschrieben hat. 2011 initiierte er das künstlerische Forschungsprojekt Stadlnova\, basierend auf der Idee eines fiktiven Vororts zwischen Wen und Bratislava (https://www.stadlnova.net). Aufnahmen seines Redens und Geredes sind hier nachzuhören: https://suburbandrifter.tumblr.com. \n
URL:https://radiorevolten.net/event/radioradar-tramp-radio/
CATEGORIES:Radio
END:VEVENT
BEGIN:VEVENT
DTSTART;TZID=Europe/Berlin:20161013T130000
DTEND;TZID=Europe/Berlin:20161013T140000
DTSTAMP:20260420T010214
CREATED:20160830T212807Z
LAST-MODIFIED:20160830T212807Z
UID:1567-1476363600-1476367200@radiorevolten.net
SUMMARY:Deutsche Rundfunkpropaganda für die arabische Welt
DESCRIPTION:Talk mit Hans Goldenbaum \nHans Goldenbaum hat umfassend die nationalsozialistische Rundfunkpropaganda im Nahen Osten untersucht. Gestützt auf neueste Quellen zeigt er\, dass es dabei vor allem um die Instrumentalisierung arabischer Befindlichkeiten ging. Im Gespräch mit Goldenbaum soll es auch um die Resonanz bei den Empfängern gehen. \nZeitgleich auch auf Radio Corax 95\,9 UKW \n
URL:https://radiorevolten.net/event/deutsche-rundfunkpropaganda-fuer-die-arabische-welt/
LOCATION:Große Märkerstraße 10\, Halle\, 06108\, Deutschland
GEO:51.480643;11.97153
X-APPLE-STRUCTURED-LOCATION;VALUE=URI;X-ADDRESS=Große Märkerstraße 10 Halle 06108 Deutschland;X-APPLE-RADIUS=500;X-TITLE=Große Märkerstraße 10:geo:11.97153,51.480643
CATEGORIES:Events
END:VEVENT
BEGIN:VEVENT
DTSTART;TZID=Europe/Berlin:20161013T170000
DTEND;TZID=Europe/Berlin:20161013T180000
DTSTAMP:20260420T010214
CREATED:20160921T142951Z
LAST-MODIFIED:20161013T095153Z
UID:2095-1476378000-1476381600@radiorevolten.net
SUMMARY:RADIORADAR
DESCRIPTION:Marold Langer-Philippsen sendet sein Orakelradio live aus der Türmerwohnung der Marktkirche. Jeden Tag von 17- 18 Uhr auf UKW 99\,3 und davor und danach auf www.radioradar.eu \nEinem Orakel werden Fragen gestellt\, Geschenke mitgebracht\, um es günstig zu stimmen\, dass seine Augen und Ohren klar sind\, um die Zeichen gut und genau deuten zu können\, die über das zukünftige berichten könnten. \nHeute: On air Live Autostop von Bratislava nach Halle – Reisender ist der österreichische Radioredakteur und Forscher Jürgen Rendl \n
URL:https://radiorevolten.net/event/radioradar-2-12/
LOCATION:Marktplatz\, Halle (Saale)\, Deutschland
GEO:51.4826212;11.9699481
X-APPLE-STRUCTURED-LOCATION;VALUE=URI;X-ADDRESS=Marktplatz Halle (Saale) Deutschland;X-APPLE-RADIUS=500;X-TITLE=Marktplatz:geo:11.9699481,51.4826212
CATEGORIES:Radio
ATTACH;FMTTYPE=image/jpeg:https://radiorevolten.net/wp-content/uploads/2016/09/Marold-am-senden_Marold-Langer-Philippsen.jpeg
END:VEVENT
BEGIN:VEVENT
DTSTART;TZID=Europe/Berlin:20161013T180000
DTEND;TZID=Europe/Berlin:20161013T190000
DTSTAMP:20260420T010214
CREATED:20161006T191356Z
LAST-MODIFIED:20161011T125009Z
UID:2734-1476381600-1476385200@radiorevolten.net
SUMMARY:Führung durch die Ausstellung »Unsichtbare Wellen«
DESCRIPTION:
URL:https://radiorevolten.net/event/fuehrung-durch-die-ausstellung-unsichtbare-wellen-6/
LOCATION:Große Märkerstraße 10\, Halle\, 06108\, Deutschland
GEO:51.480643;11.97153
X-APPLE-STRUCTURED-LOCATION;VALUE=URI;X-ADDRESS=Große Märkerstraße 10 Halle 06108 Deutschland;X-APPLE-RADIUS=500;X-TITLE=Große Märkerstraße 10:geo:11.97153,51.480643
CATEGORIES:Events
ATTACH;FMTTYPE=image/jpeg:https://radiorevolten.net/wp-content/uploads/2016/10/DTO5458-web.jpg
END:VEVENT
BEGIN:VEVENT
DTSTART;TZID=Europe/Berlin:20161013T180000
DTEND;TZID=Europe/Berlin:20161014T000000
DTSTAMP:20260420T010214
CREATED:20161013T110644Z
LAST-MODIFIED:20161014T083734Z
UID:3671-1476381600-1476403200@radiorevolten.net
SUMMARY:Die Tägliche Revolte
DESCRIPTION:18.00 Dimension X – Radioplays\n19.30 Radio Art by and with Claus Störmer\n22.30 Nightwalk Diary p. 1 (LIVE)\n23.30 Rodrigo Rios Zunino & the Radio Crew (LIVE) \n
URL:https://radiorevolten.net/event/die-taegliche-revolte-16/
LOCATION:FM 99.3 MHz\, MW 1575 kHz
GEO:51.4827743;11.9716565
X-APPLE-STRUCTURED-LOCATION;VALUE=URI;X-ADDRESS=FM 99.3 MHz MW 1575 kHz;X-APPLE-RADIUS=500;X-TITLE=FM 99.3 MHz:geo:11.9716565,51.4827743
CATEGORIES:Radio
END:VEVENT
BEGIN:VEVENT
DTSTART;TZID=Europe/Berlin:20161013T190000
DTEND;TZID=Europe/Berlin:20161013T210000
DTSTAMP:20260420T010214
CREATED:20160606T182226Z
LAST-MODIFIED:20160901T063249Z
UID:773-1476385200-1476392400@radiorevolten.net
SUMMARY:Werkleitz Festival in Korrespondenz zu Radio Revolten
DESCRIPTION:Teil 1: Farbige Klänge – Kurzfilme und elektronische Musik \n  \nUnter dem Titel Trans-Positionen wird das Werkleitz Festival 2016 in Korrespondenz zu Radio Revolten medienübergreifend auf das Radio als Träger von Hör-Kunst eingehen. Durch eine transdisziplinäre Hinterfragung von Kulturpraktiken werden in Kooperation mit Wissenschaftlern und Künstlern die jenseitigen Potenziale der Rundfunkübertragung ausgelotet. \nFilmkurator Florian Wüst wird innerhalb einer mehrteiligen\, internationalen Filmreihe im Kino Zazie das Verhältnis von Ton und elektronischem Bild untersuchen. \nhttps://www.werkleitz.de/trans-positionen \n
URL:https://radiorevolten.net/event/werkleitz-festival-in-korrespondenz-zu-radio-revolten-3/
LOCATION:Kleine Ulrichstraße 22\, Halle\, 06108\, Deutschland
GEO:51.4865;11.96643
X-APPLE-STRUCTURED-LOCATION;VALUE=URI;X-ADDRESS=Kleine Ulrichstraße 22 Halle 06108 Deutschland;X-APPLE-RADIUS=500;X-TITLE=Kleine Ulrichstraße 22:geo:11.96643,51.4865
CATEGORIES:Events
ATTACH;FMTTYPE=image/jpeg:https://radiorevolten.net/wp-content/uploads/2016/06/160523-TP-square.jpg
ORGANIZER;CN="Werkleitz%20Gesellschaft":MAILTO:info@werkleitz.de
END:VEVENT
BEGIN:VEVENT
DTSTART;TZID=Europe/Berlin:20161013T210000
DTEND;TZID=Europe/Berlin:20161013T230000
DTSTAMP:20260420T010214
CREATED:20160708T075149Z
LAST-MODIFIED:20160901T063543Z
UID:1152-1476392400-1476399600@radiorevolten.net
SUMMARY:Werkleitz Festival in Korrespondenz zu Radio Revolten
DESCRIPTION:Teil 2: Welt des Sprechens\, Gast: Miriam Bajtala (AT) \n  \nUnter dem Titel Trans-Positionen wird das Werkleitz Festival 2016 in Korrespondenz zu Radio Revolten medienübergreifend auf das Radio als Träger von Hör-Kunst eingehen. Durch eine transdisziplinäre Hinterfragung von Kulturpraktiken werden in Kooperation mit Wissenschaftlern und Künstlern die jenseitigen Potenziale der Rundfunkübertragung ausgelotet. \nFilmkurator Florian Wüst wird innerhalb einer mehrteiligen\, internationalen Filmreihe im Kino Zazie das Verhältnis von Ton und elektronischem Bild untersuchen. \nhttps://www.werkleitz.de/trans-positionen \n
URL:https://radiorevolten.net/event/werkleitz-festival-in-korrespondenz-zu-radio-revolten/
LOCATION:Kleine Ulrichstraße 22\, Halle\, 06108\, Deutschland
GEO:51.4865;11.96643
X-APPLE-STRUCTURED-LOCATION;VALUE=URI;X-ADDRESS=Kleine Ulrichstraße 22 Halle 06108 Deutschland;X-APPLE-RADIUS=500;X-TITLE=Kleine Ulrichstraße 22:geo:11.96643,51.4865
CATEGORIES:Events
ATTACH;FMTTYPE=image/jpeg:https://radiorevolten.net/wp-content/uploads/2016/06/160523-TP-square.jpg
ORGANIZER;CN="Werkleitz%20Gesellschaft":MAILTO:info@werkleitz.de
END:VEVENT
BEGIN:VEVENT
DTSTART;TZID=Europe/Berlin:20161014T000000
DTEND;TZID=Europe/Berlin:20161014T100000
DTSTAMP:20260420T010215
CREATED:20161013T221417Z
LAST-MODIFIED:20161013T221417Z
UID:3747-1476403200-1476439200@radiorevolten.net
SUMMARY:Better Silence - Radius Nacht
DESCRIPTION:Radius Nacht Teil I \nRadius\, eine Plattform für experimentelles Radio aus Chicago\, präsentiert ein für Radio Revolten konzipiertes Programm. \n
URL:https://radiorevolten.net/event/better-silence-radius-nacht/
LOCATION:FM 99.3 MHz\, MW 1575 kHz
GEO:51.4827743;11.9716565
X-APPLE-STRUCTURED-LOCATION;VALUE=URI;X-ADDRESS=FM 99.3 MHz MW 1575 kHz;X-APPLE-RADIUS=500;X-TITLE=FM 99.3 MHz:geo:11.9716565,51.4827743
CATEGORIES:Radio
END:VEVENT
END:VCALENDAR