BEGIN:VCALENDAR
VERSION:2.0
PRODID:-//Radio Revolten - ECPv4.6.19//NONSGML v1.0//EN
CALSCALE:GREGORIAN
METHOD:PUBLISH
X-WR-CALNAME:Radio Revolten
X-ORIGINAL-URL:https://radiorevolten.net/en
X-WR-CALDESC:Veranstaltungen für Radio Revolten
BEGIN:VEVENT
DTSTART;TZID=Europe/Berlin:20161026T020000
DTEND;TZID=Europe/Berlin:20161026T100000
DTSTAMP:20260420T024440
CREATED:20161025T144743Z
LAST-MODIFIED:20161025T154811Z
UID:6095-1477447200-1477476000@radiorevolten.net
SUMMARY:Kunstradio
DESCRIPTION:02.00 Anders-Stimmen by AGF (Antye Greie)\n02.48 BUTHAN LANDSCAPES von Lilian Zaremba\n03.10 Shanghai Radio Diary von Bruno Pisek\n04.04 We Take Nothing For Granted – On the Building of an Alert\n04.22 Deena Abdelwahad All Hail Mother Internet\n05.02 radioradiomasterfix\n05.57 SAMPA_RENATA ROMAN_BRASIL (2015)\n06.28 Sternenrotz-Neunaugen von Thomas Feuerstein und Peter Szely\n07.19 Her TZ – Renata Roman (2016)\n07.47 Monostasis\n08.25 Moscow ballet von Dmitry Nikolaev\n09.00 Cross Radio \n
URL:https://radiorevolten.net/en/event/kunstradio/
LOCATION:FM 99.3 MHz\, MW 1575 kHz
GEO:51.4827743;11.9716565
X-APPLE-STRUCTURED-LOCATION;VALUE=URI;X-ADDRESS=FM 99.3 MHz MW 1575 kHz;X-APPLE-RADIUS=500;X-TITLE=FM 99.3 MHz:geo:11.9716565,51.4827743
CATEGORIES:Radio
END:VEVENT
BEGIN:VEVENT
DTSTART;TZID=Europe/Berlin:20161026T100000
DTEND;TZID=Europe/Berlin:20161026T120000
DTSTAMP:20260420T024440
CREATED:20161026T162247Z
LAST-MODIFIED:20161026T162247Z
UID:6137-1477476000-1477483200@radiorevolten.net
SUMMARY:The Daily Revolt
DESCRIPTION:Surprises\, catastrophes\, radio art. \n10.00 Moments of horizontal expansion – new visions through sound. Host: Niki Matita\, Berlin/D (Pi Radio Verbund\, female:pressure) with guests from Argentinia and Halle \n
URL:https://radiorevolten.net/en/event/the-daily-revolt-35/
LOCATION:FM 99.3 MHz\, MW 1575 kHz
GEO:51.4827743;11.9716565
X-APPLE-STRUCTURED-LOCATION;VALUE=URI;X-ADDRESS=FM 99.3 MHz MW 1575 kHz;X-APPLE-RADIUS=500;X-TITLE=FM 99.3 MHz:geo:11.9716565,51.4827743
CATEGORIES:Radio
END:VEVENT
BEGIN:VEVENT
DTSTART;TZID=Europe/Berlin:20161026T120000
DTEND;TZID=Europe/Berlin:20161026T140000
DTSTAMP:20260420T024440
CREATED:20161025T131401Z
LAST-MODIFIED:20161025T131401Z
UID:6083-1477483200-1477490400@radiorevolten.net
SUMMARY:Radio Art by Julia Drouhin's friends
DESCRIPTION:
URL:https://radiorevolten.net/en/event/radio-art-by-julia-drouhins-friends/
LOCATION:FM 99.3 MHz\, MW 1575 kHz
GEO:51.4827743;11.9716565
X-APPLE-STRUCTURED-LOCATION;VALUE=URI;X-ADDRESS=FM 99.3 MHz MW 1575 kHz;X-APPLE-RADIUS=500;X-TITLE=FM 99.3 MHz:geo:11.9716565,51.4827743
CATEGORIES:Radio
END:VEVENT
BEGIN:VEVENT
DTSTART;TZID=Europe/Berlin:20161026T130000
DTEND;TZID=Europe/Berlin:20161026T140000
DTSTAMP:20260420T024440
CREATED:20160930T135418Z
LAST-MODIFIED:20160930T135418Z
UID:2436-1477486800-1477490400@radiorevolten.net
SUMMARY:Kritische Theorie und Radio
DESCRIPTION:Talk with Daniela Müller und Iris Dankemeyer \nAlso on Radio Corax 95\,9 FM \n
URL:https://radiorevolten.net/en/event/kritische-theorie-und-radio/
LOCATION:Große Märkerstraße 10\, Halle\, 06108\, Deutschland
GEO:51.480643;11.97153
X-APPLE-STRUCTURED-LOCATION;VALUE=URI;X-ADDRESS=Große Märkerstraße 10 Halle 06108 Deutschland;X-APPLE-RADIUS=500;X-TITLE=Große Märkerstraße 10:geo:11.97153,51.480643
CATEGORIES:Events
END:VEVENT
BEGIN:VEVENT
DTSTART;TZID=Europe/Berlin:20161026T140000
DTEND;TZID=Europe/Berlin:20161026T150000
DTSTAMP:20260420T024440
CREATED:20161018T125105Z
LAST-MODIFIED:20161018T125105Z
UID:5025-1477490400-1477494000@radiorevolten.net
SUMMARY:RADIORADAR – Tour
DESCRIPTION:\n\nMarold Langer-Philippsen invites into his radio studio in the Hausmannstürme. \nRequested sacrificial offering: sounding objects of every shape. \n\n\n
URL:https://radiorevolten.net/en/event/radioradar-tour-16/
LOCATION:Marktplatz\, Halle (Saale)\, Deutschland
GEO:51.4826212;11.9699481
X-APPLE-STRUCTURED-LOCATION;VALUE=URI;X-ADDRESS=Marktplatz Halle (Saale) Deutschland;X-APPLE-RADIUS=500;X-TITLE=Marktplatz:geo:11.9699481,51.4826212
CATEGORIES:Events
END:VEVENT
BEGIN:VEVENT
DTSTART;TZID=Europe/Berlin:20161026T140000
DTEND;TZID=Europe/Berlin:20161026T150000
DTSTAMP:20260420T024440
CREATED:20161025T134301Z
LAST-MODIFIED:20161101T135025Z
UID:6088-1477490400-1477494000@radiorevolten.net
SUMMARY:Kunstradio Radiokunst with Elisabeth Zimmermann
DESCRIPTION:Elisabeth Zimmermann presents works of Ö1 Kunstradio. \n
URL:https://radiorevolten.net/en/event/bird-talk/
LOCATION:FM 99.3 MHz\, MW 1575 kHz
GEO:51.4827743;11.9716565
X-APPLE-STRUCTURED-LOCATION;VALUE=URI;X-ADDRESS=FM 99.3 MHz MW 1575 kHz;X-APPLE-RADIUS=500;X-TITLE=FM 99.3 MHz:geo:11.9716565,51.4827743
CATEGORIES:Radio
END:VEVENT
BEGIN:VEVENT
DTSTART;TZID=Europe/Berlin:20161026T150000
DTEND;TZID=Europe/Berlin:20161026T170000
DTSTAMP:20260420T024440
CREATED:20161025T141957Z
LAST-MODIFIED:20161025T142022Z
UID:6091-1477494000-1477501200@radiorevolten.net
SUMMARY:Skálar FM #2
DESCRIPTION:Anna Friz & Konrad Korabiewski present The Remote Series – experimental music formed by landscape. A project by Skálar FM\, Iceland and ABC radio\, Australia. Part 2. \n
URL:https://radiorevolten.net/en/event/skalar-fm-2/
LOCATION:FM 99.3 MHz\, MW 1575 kHz
GEO:51.4827743;11.9716565
X-APPLE-STRUCTURED-LOCATION;VALUE=URI;X-ADDRESS=FM 99.3 MHz MW 1575 kHz;X-APPLE-RADIUS=500;X-TITLE=FM 99.3 MHz:geo:11.9716565,51.4827743
CATEGORIES:Radio
END:VEVENT
BEGIN:VEVENT
DTSTART;TZID=Europe/Berlin:20161026T170000
DTEND;TZID=Europe/Berlin:20161026T180000
DTSTAMP:20260420T024440
CREATED:20160921T143427Z
LAST-MODIFIED:20161018T163124Z
UID:2124-1477501200-1477504800@radiorevolten.net
SUMMARY:RADIORADAR
DESCRIPTION:Marold Langer-Philippsen broadcasts his oracle radio live from the former tower-warden’s flat of the Marktkirche. Every day from 5-6pm on 99.3 FM\, before and after on www.radioradar.eu \nIn the olden times oracles lived in towers and people traveled many miles to visit them and seek their advice. \nToday with: Golo Föllmer \nGolo Föllmer was Junior Professor at the Department of Media and Communication Studies of the Martin Luther University Halle-Wittenberg\, teaching mainly in the department’s section Audiomedia and acting as head of the eLearning-based Masters programme Online Radio. From 2013-2016\, he was leader of the collaborative research project Transnational Radio Encounters. Mediations of Nationality\, Identity and Community through Radio. His research areas are sound art\, contemporary music and acoustic media with a focus on Radio. He has edited an anthology on experimental music in Central Eastern Europe. \n
URL:https://radiorevolten.net/en/event/radioradar-2-25/
LOCATION:Marktplatz\, Halle (Saale)\, Deutschland
GEO:51.4826212;11.9699481
X-APPLE-STRUCTURED-LOCATION;VALUE=URI;X-ADDRESS=Marktplatz Halle (Saale) Deutschland;X-APPLE-RADIUS=500;X-TITLE=Marktplatz:geo:11.9699481,51.4826212
CATEGORIES:Radio
ATTACH;FMTTYPE=image/jpeg:https://radiorevolten.net/wp-content/uploads/2016/09/Marold-am-senden_Marold-Langer-Philippsen.jpeg
END:VEVENT
BEGIN:VEVENT
DTSTART;TZID=Europe/Berlin:20161026T180000
DTEND;TZID=Europe/Berlin:20161026T200000
DTSTAMP:20260420T024440
CREATED:20161025T102046Z
LAST-MODIFIED:20161025T102046Z
UID:6071-1477504800-1477512000@radiorevolten.net
SUMMARY:Solo: Udo Noll & the workshop crew
DESCRIPTION:Media artist Udo Noll and the participants of his workshop ‘Field Radio‘ present the results of three days turning their mobile phones into mobile studios. \n
URL:https://radiorevolten.net/en/event/solo-udo-noll-the-workshop-crew/
LOCATION:FM 99.3 MHz\, MW 1575 kHz
GEO:51.4827743;11.9716565
X-APPLE-STRUCTURED-LOCATION;VALUE=URI;X-ADDRESS=FM 99.3 MHz MW 1575 kHz;X-APPLE-RADIUS=500;X-TITLE=FM 99.3 MHz:geo:11.9716565,51.4827743
CATEGORIES:Radio
END:VEVENT
BEGIN:VEVENT
DTSTART;TZID=Europe/Berlin:20161026T200000
DTEND;TZID=Europe/Berlin:20161026T220000
DTSTAMP:20260420T024440
CREATED:20160605T185826Z
LAST-MODIFIED:20160728T163155Z
UID:535-1477512000-1477519200@radiorevolten.net
SUMMARY:SMOO (John Bisset & Ivor Kallin) / The Bureau of Melodramatic Research (Irina Gheorghe & Alina Popa)
DESCRIPTION:Each carry a suitcase of variable contents\, with which they improvise extemporaneously ad hoc and off the cuff. You may see them around… \n
URL:https://radiorevolten.net/en/event/smoo-john-bisset-ivor-kallin/
LOCATION:Rathausstraße 3\, Halle (Saale)\, 06108\, Deutschland
GEO:51.4827656;11.9715809
X-APPLE-STRUCTURED-LOCATION;VALUE=URI;X-ADDRESS=Rathausstraße 3 Halle (Saale) 06108 Deutschland;X-APPLE-RADIUS=500;X-TITLE=Rathausstraße 3:geo:11.9715809,51.4827656
CATEGORIES:Events,Radio
ATTACH;FMTTYPE=image/png:https://radiorevolten.net/wp-content/uploads/2016/06/Bisset_John.png
END:VEVENT
BEGIN:VEVENT
DTSTART;TZID=Europe/Berlin:20161026T220000
DTEND;TZID=Europe/Berlin:20161026T230000
DTSTAMP:20260420T024440
CREATED:20161026T162510Z
LAST-MODIFIED:20161026T203218Z
UID:6139-1477519200-1477522800@radiorevolten.net
SUMMARY:Marold and guests
DESCRIPTION:Marold Langer-Philippsen performs with guests in his temporary studio in the Hausmannstürme. \n
URL:https://radiorevolten.net/en/event/marold-and-guests/
LOCATION:Marktplatz\, Halle (Saale)\, Deutschland
GEO:51.4826212;11.9699481
X-APPLE-STRUCTURED-LOCATION;VALUE=URI;X-ADDRESS=Marktplatz Halle (Saale) Deutschland;X-APPLE-RADIUS=500;X-TITLE=Marktplatz:geo:11.9699481,51.4826212
CATEGORIES:Radio
END:VEVENT
BEGIN:VEVENT
DTSTART;TZID=Europe/Berlin:20161026T230000
DTEND;TZID=Europe/Berlin:20161027T000000
DTSTAMP:20260420T024440
CREATED:20161024T135032Z
LAST-MODIFIED:20161026T162619Z
UID:6033-1477522800-1477526400@radiorevolten.net
SUMMARY:Nightmares with Helen
DESCRIPTION:
URL:https://radiorevolten.net/en/event/nightmares-with-helen/
LOCATION:FM 99.3 MHz\, MW 1575 kHz
GEO:51.4827743;11.9716565
X-APPLE-STRUCTURED-LOCATION;VALUE=URI;X-ADDRESS=FM 99.3 MHz MW 1575 kHz;X-APPLE-RADIUS=500;X-TITLE=FM 99.3 MHz:geo:11.9716565,51.4827743
CATEGORIES:Radio
END:VEVENT
BEGIN:VEVENT
DTSTART;TZID=Europe/Berlin:20161027T000000
DTEND;TZID=Europe/Berlin:20161027T013000
DTSTAMP:20260420T024440
CREATED:20161026T231719Z
LAST-MODIFIED:20161026T231719Z
UID:6154-1477526400-1477531800@radiorevolten.net
SUMMARY:The Daily Revolt
DESCRIPTION:Surprises\, catastrophes\, radio art. \n00.00 Data Dump #7 by Xentos ‘Fray’ Bentos\n00.30 Data Dump #8 by Xentos ‘Fray’ Bentos\n01.00 Data Dump #10 by Xentos ‘Fray’ Bentos \n
URL:https://radiorevolten.net/en/event/the-daily-revolt-36/
LOCATION:FM 99.3 MHz\, MW 1575 kHz
GEO:51.4827743;11.9716565
X-APPLE-STRUCTURED-LOCATION;VALUE=URI;X-ADDRESS=FM 99.3 MHz MW 1575 kHz;X-APPLE-RADIUS=500;X-TITLE=FM 99.3 MHz:geo:11.9716565,51.4827743
CATEGORIES:Radio
END:VEVENT
BEGIN:VEVENT
DTSTART;TZID=Europe/Berlin:20161027T013000
DTEND;TZID=Europe/Berlin:20161027T090000
DTSTAMP:20260420T024440
CREATED:20161025T145324Z
LAST-MODIFIED:20161026T233531Z
UID:6099-1477531800-1477558800@radiorevolten.net
SUMMARY:Radiophrenia - Radio art from Glasgow
DESCRIPTION:Radiophrenia presents radio art from Glasgow. \n01:30 Aleks Kolkowski – Bishop Montage\n02.01 lonecrow make some hullabaloo seanburn\n02.32 James Andean PVF Abkhazia\n02.57 Illiers combray soundwalk\n03.20 Gregory Kramer – Riis – excerpt\n03.24 Skin And Blood – Fritz Welch: Skin and blood\, do you read me?\n03.50 Found Sound Answering Machine: Radio Eyes – John Morin\n04.21 Evelyn’s Request\n06.08 Eggblood – Feral – Mouth in Foot\n06.35 Dinah Bird & JP Renoult – What You See\n07.05 David Fyans – A Rising Sea Swallows The Temple\n08.06 Zoophonie-Bush –  Guillaume loizillon\n08.31 CNYK\n08.42 Hirsch – Early Carbophonics \n
URL:https://radiorevolten.net/en/event/radiophrenia-radio-art-from-glasgow-2/
LOCATION:FM 99.3 MHz\, MW 1575 kHz
GEO:51.4827743;11.9716565
X-APPLE-STRUCTURED-LOCATION;VALUE=URI;X-ADDRESS=FM 99.3 MHz MW 1575 kHz;X-APPLE-RADIUS=500;X-TITLE=FM 99.3 MHz:geo:11.9716565,51.4827743
CATEGORIES:Radio
END:VEVENT
END:VCALENDAR