BEGIN:VCALENDAR
VERSION:2.0
PRODID:-//Radio Revolten - ECPv4.6.19//NONSGML v1.0//EN
CALSCALE:GREGORIAN
METHOD:PUBLISH
X-WR-CALNAME:Radio Revolten
X-ORIGINAL-URL:https://radiorevolten.net
X-WR-CALDESC:Veranstaltungen für Radio Revolten
BEGIN:VEVENT
DTSTART;TZID=Europe/Berlin:20161028T230000
DTEND;TZID=Europe/Berlin:20161029T100000
DTSTAMP:20260420T010144
CREATED:20161028T131207Z
LAST-MODIFIED:20161028T131207Z
UID:6617-1477695600-1477735200@radiorevolten.net
SUMMARY:Better Silence
DESCRIPTION:Gibt es etwas Besseres als Stille in der Nacht? \n
URL:https://radiorevolten.net/event/better-silence-22/
LOCATION:FM 99.3 MHz\, MW 1575 kHz
GEO:51.4827743;11.9716565
X-APPLE-STRUCTURED-LOCATION;VALUE=URI;X-ADDRESS=FM 99.3 MHz MW 1575 kHz;X-APPLE-RADIUS=500;X-TITLE=FM 99.3 MHz:geo:11.9716565,51.4827743
CATEGORIES:Radio
END:VEVENT
BEGIN:VEVENT
DTSTART;TZID=Europe/Berlin:20161029T100000
DTEND;TZID=Europe/Berlin:20161029T113000
DTSTAMP:20260420T010144
CREATED:20161023T104257Z
LAST-MODIFIED:20161023T104257Z
UID:5994-1477735200-1477740600@radiorevolten.net
SUMMARY:You either love them or hate them (Cardiacs Special)
DESCRIPTION:Chris Booth and Lucinda Guy from Soundart Radio are joined in the studio by Chris Weaver. All share a disturbing and rarely talked about condition\, they are all huge fans of the divisive english band „Cardiacs“ \nOn this show they discuss in minute detail the 1998 album „On Land and in the Sea“ \n
URL:https://radiorevolten.net/event/you-either-love-them-or-hate-them-cardiacs-special/
CATEGORIES:Radio
END:VEVENT
BEGIN:VEVENT
DTSTART;TZID=Europe/Berlin:20161029T120000
DTEND;TZID=Europe/Berlin:20161029T140000
DTSTAMP:20260420T010144
CREATED:20161025T153540Z
LAST-MODIFIED:20161025T201729Z
UID:6105-1477742400-1477749600@radiorevolten.net
SUMMARY:Karen Power presents...
DESCRIPTION:A self-presented overview of the radio work of Irish composer Karen Power\, in discussion with Elisabeth Zimmermann. \nKaren Power is an educator\, improviser and academic who writes primarily for acoustic and electroacoustic forces. \nWebseite \n
URL:https://radiorevolten.net/event/karen-power-presents/
CATEGORIES:Radio
END:VEVENT
BEGIN:VEVENT
DTSTART;TZID=Europe/Berlin:20161029T140000
DTEND;TZID=Europe/Berlin:20161029T150000
DTSTAMP:20260420T010144
CREATED:20160712T121134Z
LAST-MODIFIED:20161028T143829Z
UID:1159-1477749600-1477753200@radiorevolten.net
SUMMARY:Caroline Kraabel
DESCRIPTION:Caroline Kraabel engagiert sich für Improvisation als Lebens- und Arbeitsweise. Sie macht Musik auf unerwartete Weise und an unerwarteten Orten. Für die Radio Revolten erkundet sie mit ihrem Saxophon (und live on air) die Straßen von Halle (Saale). \n \n
URL:https://radiorevolten.net/event/caroline-kraabel/
CATEGORIES:Events,Radio
ATTACH;FMTTYPE=image/jpeg:https://radiorevolten.net/wp-content/uploads/2016/06/CK2015_GuiseppeTamponi.jpg
END:VEVENT
BEGIN:VEVENT
DTSTART;TZID=Europe/Berlin:20161029T150000
DTEND;TZID=Europe/Berlin:20161029T170000
DTSTAMP:20260420T010144
CREATED:20160704T120338Z
LAST-MODIFIED:20160930T175223Z
UID:1112-1477753200-1477760400@radiorevolten.net
SUMMARY:SWEET TRIBOLOGY (Julia Drouhin)
DESCRIPTION:SWEET TRIBOLOGY ist eine Ode an die Frauen der Klangkunst\, die die verblasste Schönheit aus vergessenen Wachszylindern hervorzaubert. Während eines radiophonen Picknicks werden in Schokolade gepresste Schallaufnahmen abgespielt. 40 Radiokünstlerinnen aus der ganzen Welt haben für diese exklusive Darbietungsform Hörstücke zur Verfügung gestellt. Wenn der Diamant der Plattennadel die süße Oberfläche erreicht\, erklingt der geformte Ton\, wird aber mit jedem Abspielen gleichsam auch gelöscht. Denn je öfter die essbare Schallplatte gespielt wird\, desto weniger ist die Aufnahme hörbar. Stattdessen treten die Geräusche der Umgebung in den Vordergrund.\nSWEET TRIBOLOGY hinterfragt die De- und Regeneration\, als gute Möglichkeiten\, Musik zu teilen und im öffentlichen Raum zu interagieren. Das Radio Revolten Radio begleitet das radiophone Picknick akustisch\, die schokoladigen Klänge vom Plattenteller dürfen nach dem Abspielen vom Publikum verspeist werden. \nDie schokoladigen Klänge kommen von Camille Antoine\, Felicia Atkinson\, Frieda Beukenkamp\, Dinah Bird\, Maya Boquet\, Emma Bugg\, Tania Buisse\, Selena De Carvalho\, Andrea Cohen\, Lou Conboy\, Kate Geck\, Emmanuelle Gibello\, Rosalind Hall\, Hanna Hartman\, Carola Haupt\, Julie Honoré\, Cat Hope\, Alice Hui-Sheng Chang\, Zoe Irvine\, Anne Laplantine\, Sally Ann McIntyre\, Mish Meijers\, Coraline Janvier\, Shannon Johnson\, Miss Despoinas\, Rosa Menkman\, Edith Perrenot\, Sally Rees\, Eve Risser\, Elissa Ritson\, Anne-Laure Robin\, Maria Papadomanolaki\, Nadège Philippe-Janon\, Sabio\, Pip Stafford\, Rachel Tribout\, Maia Urstad\, Valérie Vivancos\, Tricky Walsh\, Sarah Washington. \n
URL:https://radiorevolten.net/event/sweet-tribology-julia-drouhin/
LOCATION:Gottesackerstr. 7\, Halle (Saale)\, 06108\, Deutschland
GEO:51.48184;11.97677
X-APPLE-STRUCTURED-LOCATION;VALUE=URI;X-ADDRESS=Gottesackerstr. 7 Halle (Saale) 06108 Deutschland;X-APPLE-RADIUS=500;X-TITLE=Gottesackerstr. 7:geo:11.97677,51.48184
CATEGORIES:Events,Radio
ATTACH;FMTTYPE=image/jpeg:https://radiorevolten.net/wp-content/uploads/2016/07/Dr-Julia-Drouhin-sweet-tribology-mona2016-photoAmyBrown.jpg
END:VEVENT
BEGIN:VEVENT
DTSTART;TZID=Europe/Berlin:20161029T170000
DTEND;TZID=Europe/Berlin:20161029T180000
DTSTAMP:20260420T010144
CREATED:20160921T143456Z
LAST-MODIFIED:20161019T211030Z
UID:2127-1477760400-1477764000@radiorevolten.net
SUMMARY:RADIORADAR
DESCRIPTION:Marold Langer-Philippsen sendet sein Orakelradio live aus der Türmerwohnung der Marktkirche. Jeden Tag von 17- 18 Uhr auf UKW 99\,3 und davor und danach auf www.radioradar.eu \nzu Gast: Elisabeth Zimmermann\, Kuratorin Radio Revolten & Redakteurin des Ö1 Kunstradio \nEinem Orakel werden Fragen gestellt\, Geschenke mitgebracht\, um es günstig zu stimmen\, dass seine Augen und Ohren klar sind\, um die Zeichen gut und genau deuten zu können\, die über das zukünftige berichten könnten. \n
URL:https://radiorevolten.net/event/radioradar-2-28/
LOCATION:Marktplatz\, Halle (Saale)\, Deutschland
GEO:51.4826212;11.9699481
X-APPLE-STRUCTURED-LOCATION;VALUE=URI;X-ADDRESS=Marktplatz Halle (Saale) Deutschland;X-APPLE-RADIUS=500;X-TITLE=Marktplatz:geo:11.9699481,51.4826212
CATEGORIES:Radio
ATTACH;FMTTYPE=image/jpeg:https://radiorevolten.net/wp-content/uploads/2016/09/Marold-am-senden_Marold-Langer-Philippsen.jpeg
END:VEVENT
BEGIN:VEVENT
DTSTART;TZID=Europe/Berlin:20161029T180000
DTEND;TZID=Europe/Berlin:20161029T200000
DTSTAMP:20260420T010144
CREATED:20161029T223707Z
LAST-MODIFIED:20161029T223707Z
UID:7296-1477764000-1477771200@radiorevolten.net
SUMMARY:Solo: Chris Weaver feat. The Radio Crew
DESCRIPTION:Radio crew outtakes. \n
URL:https://radiorevolten.net/event/solo-chris-weaver-feat-the-radio-crew/
LOCATION:FM 99.3 MHz\, MW 1575 kHz
GEO:51.4827743;11.9716565
X-APPLE-STRUCTURED-LOCATION;VALUE=URI;X-ADDRESS=FM 99.3 MHz MW 1575 kHz;X-APPLE-RADIUS=500;X-TITLE=FM 99.3 MHz:geo:11.9716565,51.4827743
CATEGORIES:Radio
END:VEVENT
BEGIN:VEVENT
DTSTART;TZID=Europe/Berlin:20161029T200000
DTEND;TZID=Europe/Berlin:20161029T230000
DTSTAMP:20260420T010144
CREATED:20160814T134609Z
LAST-MODIFIED:20170906T191820Z
UID:1275-1477771200-1477782000@radiorevolten.net
SUMMARY:Radio Relay Circus
DESCRIPTION:Angelehnt an die Regeln von John Cages «Music Circus» und John Bissets «Relay» spielen Dutzende Musiker und Musikerinnen verteilt über die Ausstellungsräume in der Radio Revolten Zentrale. Nicht nur das Publikum kann sich frei im Haus bewegen und so seine ganz persönliche Klangmischung kreieren\, sondern auch die Performer und Performerinnen können sich bewegen und so immer wieder neue Konstellationen des Zusammenspiels ausprobieren. \n
URL:https://radiorevolten.net/event/radio-relay-circus/
LOCATION:Rathausstraße 4\, Halle (Saale)\, 06108\, Deutschland
GEO:51.4827743;11.9716565
X-APPLE-STRUCTURED-LOCATION;VALUE=URI;X-ADDRESS=Rathausstraße 4 Halle (Saale) 06108 Deutschland;X-APPLE-RADIUS=500;X-TITLE=Rathausstraße 4:geo:11.9716565,51.4827743
CATEGORIES:Events,Radio
ATTACH;FMTTYPE=image/jpeg:https://radiorevolten.net/wp-content/uploads/2016/10/Fernando_Godoy_M__Rodrigo_Ríos_Zunino_360°_Foto_Marcus-Andreas_Mohr.jpg
END:VEVENT
BEGIN:VEVENT
DTSTART;TZID=Europe/Berlin:20161029T230000
DTEND;TZID=Europe/Berlin:20161030T000000
DTSTAMP:20260420T010144
CREATED:20161029T222627Z
LAST-MODIFIED:20161029T222743Z
UID:7293-1477782000-1477785600@radiorevolten.net
SUMMARY:The Arctic Hour
DESCRIPTION:… moderiert von Geraniam Blonde. \n
URL:https://radiorevolten.net/event/the-arctic-hour/
LOCATION:FM 99.3 MHz\, MW 1575 kHz
GEO:51.4827743;11.9716565
X-APPLE-STRUCTURED-LOCATION;VALUE=URI;X-ADDRESS=FM 99.3 MHz MW 1575 kHz;X-APPLE-RADIUS=500;X-TITLE=FM 99.3 MHz:geo:11.9716565,51.4827743
CATEGORIES:Radio
END:VEVENT
BEGIN:VEVENT
DTSTART;TZID=Europe/Berlin:20161030T000000
DTEND;TZID=Europe/Berlin:20161030T010000
DTSTAMP:20260420T010144
CREATED:20161029T224557Z
LAST-MODIFIED:20161029T224557Z
UID:7298-1477785600-1477789200@radiorevolten.net
SUMMARY:Ambient Laybye
DESCRIPTION:00.00 Free Lab Radio – June 2nd 2012 Part Two (Placement Dub)\n00.51 mise en abîme (nula.cc) \n
URL:https://radiorevolten.net/event/ambient-laybye/
LOCATION:FM 99.3 MHz\, MW 1575 kHz
GEO:51.4827743;11.9716565
X-APPLE-STRUCTURED-LOCATION;VALUE=URI;X-ADDRESS=FM 99.3 MHz MW 1575 kHz;X-APPLE-RADIUS=500;X-TITLE=FM 99.3 MHz:geo:11.9716565,51.4827743
CATEGORIES:Radio
END:VEVENT
BEGIN:VEVENT
DTSTART;TZID=Europe/Berlin:20161030T010000
DTEND;TZID=Europe/Berlin:20161030T040000
DTSTAMP:20260420T010144
CREATED:20161029T224659Z
LAST-MODIFIED:20161029T224659Z
UID:7300-1477789200-1477800000@radiorevolten.net
SUMMARY:Radio Radar: Nacht-Spezial
DESCRIPTION:
URL:https://radiorevolten.net/event/radio-radar-nacht-spezial/
LOCATION:Marktplatz\, Halle (Saale)\, Deutschland
GEO:51.4826212;11.9699481
X-APPLE-STRUCTURED-LOCATION;VALUE=URI;X-ADDRESS=Marktplatz Halle (Saale) Deutschland;X-APPLE-RADIUS=500;X-TITLE=Marktplatz:geo:11.9699481,51.4826212
CATEGORIES:Radio
END:VEVENT
BEGIN:VEVENT
DTSTART;TZID=Europe/Berlin:20161030T040000
DTEND;TZID=Europe/Berlin:20161030T100000
DTSTAMP:20260420T010144
CREATED:20161029T233743Z
LAST-MODIFIED:20161029T233743Z
UID:7303-1477800000-1477821600@radiorevolten.net
SUMMARY:Better Silence
DESCRIPTION:Gibt es etwas Besseres als Stille in der Nacht? \n04.00 Shanghai radio diary by Bruno Pisek\n04.54 KUR Bremen: Roadmovie (cut by Matt Smith)\n05.44 Kaja Kraner\, Alja Lobnik in Katja Kosi – Senzasenso\n06.20 Dylan Nyoukis – Fae ma Bit Tae ur Bit\n08.18 Whence Came You Quiet Please\, Episode 37\n08.48 Music For Programming\, Episode 44 (Compiled by Hukka)\n09.47 Nomades (G. Van Loo\, D. Leclercq\, C.Cop) \n
URL:https://radiorevolten.net/event/better-silence-23/
LOCATION:FM 99.3 MHz\, MW 1575 kHz
GEO:51.4827743;11.9716565
X-APPLE-STRUCTURED-LOCATION;VALUE=URI;X-ADDRESS=FM 99.3 MHz MW 1575 kHz;X-APPLE-RADIUS=500;X-TITLE=FM 99.3 MHz:geo:11.9716565,51.4827743
CATEGORIES:Radio
END:VEVENT
END:VCALENDAR